Workbook

Sheet 入力
A1: 労働条件通知書 入力 | B1: 労働条件通知書 入力 | C1: 労働条件通知書 入力 | D1: 労働条件通知書 入力 | E1: 労働条件通知書 入力 | F1: 労働条件通知書 入力 | G1: 労働条件通知書 入力 | H1: 労働条件通知書 入力 | I1: 労働条件通知書 入力 | J1: 労働条件通知書 入力
A2: 労働条件通知書 入力 | B2: 労働条件通知書 入力 | C2: 労働条件通知書 入力 | D2: 労働条件通知書 入力 | E2: 労働条件通知書 入力 | F2: 労働条件通知書 入力 | G2: 労働条件通知書 入力 | H2: 労働条件通知書 入力 | I2: 労働条件通知書 入力 | J2: 労働条件通知書 入力
A3: 黄色のセルに入力します。末尾の「勤務制度」「基本賃金形態」も選択し、一般労働者用又は短時間労働者用を印刷してください。 | B3: 黄色のセルだけに入力します。印刷は『一般労働者用』または『短時間労働者用』を選びます。印刷面は厚生労働省モデルの配置・項目順を保っています。 | C3: 黄色のセルだけに入力します。印刷は『一般労働者用』または『短時間労働者用』を選びます。印刷面は厚生労働省モデルの配置・項目順を保っています。 | D3: 黄色のセルだけに入力します。印刷は『一般労働者用』または『短時間労働者用』を選びます。印刷面は厚生労働省モデルの配置・項目順を保っています。 | E3: 黄色のセルだけに入力します。印刷は『一般労働者用』または『短時間労働者用』を選びます。印刷面は厚生労働省モデルの配置・項目順を保っています。 | F3: 黄色のセルだけに入力します。印刷は『一般労働者用』または『短時間労働者用』を選びます。印刷面は厚生労働省モデルの配置・項目順を保っています。 | G3: 黄色のセルだけに入力します。印刷は『一般労働者用』または『短時間労働者用』を選びます。印刷面は厚生労働省モデルの配置・項目順を保っています。 | H3: 黄色のセルだけに入力します。印刷は『一般労働者用』または『短時間労働者用』を選びます。印刷面は厚生労働省モデルの配置・項目順を保っています。 | I3: 黄色のセルだけに入力します。印刷は『一般労働者用』または『短時間労働者用』を選びます。印刷面は厚生労働省モデルの配置・項目順を保っています。 | J3: 黄色のセルだけに入力します。印刷は『一般労働者用』または『短時間労働者用』を選びます。印刷面は厚生労働省モデルの配置・項目順を保っています。
A5: 基本情報 | B5: 基本情報 | C5: 基本情報 | D5: 基本情報 | E5: 基本情報 | F5: 基本情報 | G5: 基本情報 | H5: 基本情報 | I5: 基本情報 | J5: 基本情報
A6: 通知日 | B6: 通知日 | G6: 西暦で入力（例：2026/10/05）。日付として入力してください。 | H6: 実際の交付日 | I6: 実際の交付日 | J6: 実際の交付日
A7: 労働者氏名 | B7: 労働者氏名 | G7: 個人ごとに作成 | H7: 個人ごとに作成 | I7: 個人ごとに作成 | J7: 個人ごとに作成
A8: 事業場名称 | B8: 事業場名称 | G8: 法人名・支店名等 | H8: 法人名・支店名等 | I8: 法人名・支店名等 | J8: 法人名・支店名等
A9: 事業場所在地 | B9: 事業場所在地 | G9: 郵便番号・所在地 | H9: 郵便番号・所在地 | I9: 郵便番号・所在地 | J9: 郵便番号・所在地
A10: 使用者職名 | B10: 使用者職名 | G10: 例：代表取締役 | H10: 例：代表取締役 | I10: 例：代表取締役 | J10: 例：代表取締役
A11: 使用者氏名 | B11: 使用者氏名 | G11: 労働条件の決定権限を持つ者 | H11: 労働条件の決定権限を持つ者 | I11: 労働条件の決定権限を持つ者 | J11: 労働条件の決定権限を持つ者
A12: 契約期間・更新・無期転換 | B12: 契約期間・更新・無期転換 | C12: 契約期間・更新・無期転換 | D12: 契約期間・更新・無期転換 | E12: 契約期間・更新・無期転換 | F12: 契約期間・更新・無期転換 | G12: 契約期間・更新・無期転換 | H12: 契約期間・更新・無期転換 | I12: 契約期間・更新・無期転換 | J12: 契約期間・更新・無期転換
A13: 契約期間 | B13: 契約期間 | G13: 該当する選択肢に○を表示 | H13: 該当する選択肢に○を表示 | I13: 該当する選択肢に○を表示 | J13: 該当する選択肢に○を表示
A14: 契約開始日 | B14: 契約開始日 | G14: 西暦で入力（例：2026/10/05）。日付として入力してください。 | H14: 有期の場合 | I14: 有期の場合 | J14: 有期の場合
A15: 契約終了日 | B15: 契約終了日 | G15: 西暦で入力（例：2026/10/05）。日付として入力してください。 | H15: 有期の場合 | I15: 有期の場合 | J15: 有期の場合
A16: 契約更新の有無 | B16: 契約更新の有無 | G16: 有期の場合 | H16: 有期の場合 | I16: 有期の場合 | J16: 有期の場合
A17: 契約更新・その他 | B17: 契約更新・その他 | G17: 更新区分が『その他』の場合 | H17: 更新区分が『その他』の場合 | I17: 更新区分が『その他』の場合 | J17: 更新区分が『その他』の場合
A18: 契約更新の判断基準 | B18: 更新判断・その他 | G18: 適用する基準を記入。例：業務量、勤務成績・態度、能力、経営状況、業務の進捗状況。 | H18: 公式の判断項目に加える具体的基準 | I18: 公式の判断項目に加える具体的基準 | J18: 公式の判断項目に加える具体的基準
A19: 更新上限 | B19: 更新上限 | G19: 無／有 | H19: 無／有 | I19: 無／有 | J19: 無／有
A20: 更新回数上限 | B20: 更新回数上限 | G20: 有の場合。回数を数値で入力 | H20: 有の場合。回数を数値で入力 | I20: 有の場合。回数を数値で入力 | J20: 有の場合。回数を数値で入力
A21: 通算契約期間上限 | B21: 通算契約期間上限 | G21: 有の場合。年数を数値で入力 | H21: 有の場合。年数を数値で入力 | I21: 有の場合。年数を数値で入力 | J21: 有の場合。年数を数値で入力
A22: 無期転換日 | B22: 無期転換日 | G22: 西暦で入力（例：2026/10/05）。日付として入力してください。 | H22: 申込みにより無期契約となる日 | I22: 申込みにより無期契約となる日 | J22: 申込みにより無期契約となる日
A23: 無期転換後の条件変更 | B23: 無期転換後の条件変更 | G23: 無／有（別紙のとおり） | H23: 無／有（別紙のとおり） | I23: 無／有（別紙のとおり） | J23: 無／有（別紙のとおり）
A24: 有期特措法の特例 | B24: 有期特措法の特例 | G24: 該当なし／高度専門／定年後の高齢者 | H24: 該当なし／高度専門／定年後の高齢者 | I24: 該当なし／高度専門／定年後の高齢者 | J24: 該当なし／高度専門／定年後の高齢者
A25: 特定有期業務の期間 | B25: 特定有期業務の期間 | G25: 高度専門の場合。月数を入力 | H25: 高度専門の場合。月数を入力 | I25: 高度専門の場合。月数を入力 | J25: 高度専門の場合。月数を入力
A26: 就業場所・従事業務 | B26: 就業場所・従事業務 | C26: 就業場所・従事業務 | D26: 就業場所・従事業務 | E26: 就業場所・従事業務 | F26: 就業場所・従事業務 | G26: 就業場所・従事業務 | H26: 就業場所・従事業務 | I26: 就業場所・従事業務 | J26: 就業場所・従事業務
A27: 就業場所（雇入れ直後） | B27: 就業場所（雇入れ直後） | G27: 事業場・在宅勤務場所等 | H27: 事業場・在宅勤務場所等 | I27: 事業場・在宅勤務場所等 | J27: 事業場・在宅勤務場所等
A28: 就業場所（変更の範囲） | B28: 就業場所（変更の範囲） | G28: 変更なしの場合も明記 | H28: 変更なしの場合も明記 | I28: 変更なしの場合も明記 | J28: 変更なしの場合も明記
A29: 業務内容（雇入れ直後） | B29: 業務内容（雇入れ直後） | G29: 主要業務を具体的に | H29: 主要業務を具体的に | I29: 主要業務を具体的に | J29: 主要業務を具体的に
A30: 業務内容（変更の範囲） | B30: 業務内容（変更の範囲） | G30: 変更なしの場合も明記 | H30: 変更なしの場合も明記 | I30: 変更なしの場合も明記 | J30: 変更なしの場合も明記
A31: 特定有期業務の内容 | B31: 特定有期業務の内容 | G31: 高度専門の特例対象者の場合 | H31: 高度専門の特例対象者の場合 | I31: 高度専門の特例対象者の場合 | J31: 高度専門の特例対象者の場合
A32: 特定有期業務の開始日 | B32: 特定有期業務の開始日 | G32: 西暦で入力（例：2026/10/05）。日付として入力してください。 | H32: 高度専門の特例対象者の場合 | I32: 高度専門の特例対象者の場合 | J32: 高度専門の特例対象者の場合
A33: 特定有期業務の完了日 | B33: 特定有期業務の完了日 | G33: 西暦で入力（例：2026/10/05）。日付として入力してください。 | H33: 高度専門の特例対象者の場合 | I33: 高度専門の特例対象者の場合 | J33: 高度専門の特例対象者の場合
A34: 始業・終業・休憩・時間外労働（勤務制度は114行で選択） | B34: 始業・終業・休憩・時間外労働（勤務制度は114行で選択） | C34: 始業・終業・休憩・時間外労働（勤務制度は114行で選択） | D34: 始業・終業・休憩・時間外労働（勤務制度は114行で選択） | E34: 始業・終業・休憩・時間外労働（勤務制度は114行で選択） | F34: 始業・終業・休憩・時間外労働（勤務制度は114行で選択） | G34: 始業・終業・休憩・時間外労働（勤務制度は114行で選択） | H34: 始業・終業・休憩・時間外労働（勤務制度は114行で選択） | I34: 始業・終業・休憩・時間外労働（勤務制度は114行で選択） | J34: 始業・終業・休憩・時間外労働（勤務制度は114行で選択）
A35: 始業時刻 | B35: 始業時刻 | G35: 例：9時00分 | H35: 例：9時00分 | I35: 例：9時00分 | J35: 例：9時00分
A36: 終業時刻 | B36: 終業時刻 | G36: 例：18時00分 | H36: 例：18時00分 | I36: 例：18時00分 | J36: 例：18時00分
A37: 適用する制度の名称 | B37: 変形労働時間制の単位 | G37: 例：1か月単位の変形労働時間制、交替制。実際に適用する制度名を記入。 | H37: 例：1か月、1年 | I37: 例：1か月、1年 | J37: 例：1か月、1年
A38: 勤務時間1 | B38: 勤務時間1 | G38: 例：始業8時00分 終業17時00分（適用日 月～金） | H38: 例：始業8時00分 終業17時00分（適用日 月～金） | I38: 例：始業8時00分 終業17時00分（適用日 月～金） | J38: 例：始業8時00分 終業17時00分（適用日 月～金）
A39: 勤務時間2 | B39: 勤務時間2 | G39: 必要な場合 | H39: 必要な場合 | I39: 必要な場合 | J39: 必要な場合
A40: 勤務時間3 | B40: 勤務時間3 | G40: 必要な場合 | H40: 必要な場合 | I40: 必要な場合 | J40: 必要な場合
A41: フレキシブルタイム | B41: フレキシブルタイム | G41: 始業・終業の各時間帯 | H41: 始業・終業の各時間帯 | I41: 始業・終業の各時間帯 | J41: 始業・終業の各時間帯
...

Sheet 一般労働者用
A1: （一般労働者用；常用、有期雇用型） | B1: （一般労働者用；常用、有期雇用型） | C1: （一般労働者用；常用、有期雇用型） | D1: （一般労働者用；常用、有期雇用型） | E1: （一般労働者用；常用、有期雇用型） | F1: （一般労働者用；常用、有期雇用型） | G1: （一般労働者用；常用、有期雇用型） | H1: （一般労働者用；常用、有期雇用型） | I1: （一般労働者用；常用、有期雇用型） | J1: （一般労働者用；常用、有期雇用型） | K1: （一般労働者用；常用、有期雇用型） | L1: （一般労働者用；常用、有期雇用型）
A2: 労働条件通知書 | B2: 労働条件通知書 | C2: 労働条件通知書 | D2: 労働条件通知書 | E2: 労働条件通知書 | F2: 労働条件通知書 | G2: 労働条件通知書 | H2: 労働条件通知書 | I2: 労働条件通知書 | J2: 労働条件通知書 | K2: 労働条件通知書 | L2: 労働条件通知書
H4: =IF(LEN('入力'!$C$6)=0," 年 月 日",TEXT('入力'!$C$6,"yyyy年m月d日"))
A5: =IF(LEN('入力'!$C$7)=0," ",'入力'!$C$7)&" 殿" | E5: ="事業場名称・所在地 "&IF(LEN('入力'!$C$8)=0," ",'入力'!$C$8)&CHAR(10)&" "&IF(LEN('入力'!$C$9)=0," ",'入力'!$C$9)
E6: ="使 用 者 職 氏 名 "&IF(LEN('入力'!$C$10)=0," ",'入力'!$C$10)&" "&IF(LEN('入力'!$C$11)=0," ",'入力'!$C$11)
A7: 契約期間 | B7: 契約期間 | C7: =IF('入力'!$C$13="期間の定めなし","○期間の定めなし","期間の定めなし")&"、"&IF('入力'!$C$13="期間の定めあり","○期間の定めあり","期間の定めあり")&IF('入力'!$C$13="期間の定めあり","（"&IF(LEN('入力'!$C$14)=0," 年 月 日",TEXT('入力'!$C$14,"yyyy年m月d日"))&"～"&IF(LEN('入力'!$C$15)=0," 年 月 日",TEXT('入力'!$C$15,"yyyy年m月d日"))&"）"&CHAR(10)&"１ 契約更新："&IF('入力'!$C$16="自動的に更新する","○自動的に更新する","自動的に更新する")&"・"&IF('入力'!$C$16="更新する場合があり得る","○更新する場合があり得る","更新する場合があり得る")&"・"&IF('入力'!$C$16="契約の更新はしない","○契約の更新はしない","契約の更新はしない")&"・"&IF('入力'!$C$16="その他","○その他","その他")&IF(LEN('入力'!$C$17)=0,"","（"&'入力'!$C$17&"）")&CHAR(10)&"２ 契約更新の判断基準："&IF(LEN('入力'!$C$18)=0,"適用する判断基準を記入",'入力'!$C$18)&CHAR(10)&"３ 更新上限："&IF('入力'!$C$19="無","○無","無")&"・"&IF('入力'!$C$19="有","○有","有")&IF('入力'!$C$19="有","（更新 "&IF(LEN('入力'!$C$20)=0," ",TEXT('入力'!$C$20,IF('入力'!$C$20=INT(N('入力'!$C$20)),"0","0.##")))&"回まで／通算契約期間 "&IF(LEN('入力'!$C$21)=0," ",TEXT('入力'!$C$21,IF('入力'!$C$21=INT(N('入力'!$C$21)),"0","0.##")))&"年まで）",""),"")
A8: ="【労働契約法に定める同一の企業との間での通算契約期間が５年を超える有期労働契約の締結の場合】"&CHAR(10)&" 本契約期間中に会社に対して期間の定めのない労働契約（無期労働契約）の締結の申込みをすることにより、本契約期間の末日の翌日（"&IF(LEN('入力'!$C$22)=0," 年 月 日",TEXT('入力'!$C$22,"yyyy年m月d日"))&"）から、無期労働契約での雇用に転換することができる。この場合の本契約からの労働条件の変更の有無（"&IF('入力'!$C$23="無","○無","無")&"・"&IF('入力'!$C$23="有（別紙のとおり）","○有（別紙のとおり）","有（別紙のとおり）")&"）"
A9: ="【有期雇用特別措置法による特例の対象者の場合】"&CHAR(10)&"無期転換申込権が発生しない期間／対象："&IF(LEN('入力'!$C$24)=0," ",'入力'!$C$24)&IF('入力'!$C$24="高度専門",CHAR(10)&"Ⅰ 特定有期業務の開始から完了まで（"&IF(LEN('入力'!$C$25)=0," ",TEXT('入力'!$C$25,IF('入力'!$C$25=INT(N('入力'!$C$25)),"0","0.##")))&"か月、上限10年）",IF('入力'!$C$24="定年後の高齢者",CHAR(10)&"Ⅱ 定年後引き続いて雇用されている期間",""))
A10: 就業の場所 | B10: 就業の場所 | C10: ="（雇入れ直後）"&IF(LEN('入力'!$C$27)=0," ",'入力'!$C$27)&CHAR(10)&"（変更の範囲）"&IF(LEN('入力'!$C$28)=0," ",'入力'!$C$28)
A11: 従事すべき 業務の内容 | B11: 従事すべき 業務の内容 | C11: ="（雇入れ直後）"&IF(LEN('入力'!$C$29)=0," ",'入力'!$C$29)&CHAR(10)&"（変更の範囲）"&IF(LEN('入力'!$C$30)=0," ",'入力'!$C$30)&CHAR(10)&"【有期雇用特別措置法による特例の対象者（高度専門）の場合】"&CHAR(10)&"・特定有期業務（"&IF(LEN('入力'!$C$31)=0," ",'入力'!$C$31)&" 開始日："&IF(LEN('入力'!$C$32)=0," ",TEXT('入力'!$C$32,"yyyy年m月d日"))&" 完了日："&IF(LEN('入力'!$C$33)=0," ",TEXT('入力'!$C$33,"yyyy年m月d日"))&"）"
A12: 始業・終業の時刻 休憩時間 勤務制度 所定時間外労働 | B12: 始業、終業の 時刻、休憩時 間、就業時転 換（(1)～(5) のうち該当す るもの一つに ○を付けるこ と。）、所定時 間外労働の有 無に関する事 項 | C12: ="１ 始業・終業の時刻等"&CHAR(10)&IF('入力'!$C$114="通常勤務","○(1) 始業（"&IF(LEN('入力'!$C$35)=0," 時 分",'入力'!$C$35)&"） 終業（"&IF(LEN('入力'!$C$36)=0," 時 分",'入力'!$C$36)&"）",IF('入力'!$C$114="変形労働時間制等","○(2) "&IF(LEN('入力'!$C$37)=0,"適用する制度の名称を記入",'入力'!$C$37)&CHAR(10)&IF(LEN('入力'!$C$38)=0,"始業・終業・適用日を記入",'入力'!$C$38)&CHAR(10)&IF(LEN('入力'!$C$39)=0,"",'入力'!$C$39)&CHAR(10)&IF(LEN('入力'!$C$40)=0,"",'入力'!$C$40),IF('入力'!$C$114="フレックスタイム制","○(3) フレックスタイム制：始業・終業は労働者の決定に委ねる。"&CHAR(10)&"フレキシブルタイム："&IF(LEN('入力'!$C$41)=0," ",'入力'!$C$41)&CHAR(10)&"コアタイム："&IF(LEN('入力'!$C$42)=0," ",'入力'!$C$42),IF('入力'!$C$114="事業場外みなし労働時間制","○(4) 事業場外みなし労働時間制："&IF(LEN('入力'!$C$43)=0,"始業・終業を記入",'入力'!$C$43),IF('入力'!$C$114="裁量労働制","○(5) 裁量労働制："&IF(LEN('入力'!$C$44)=0,"始業・終業を記入",'入力'!$C$44)&"を基本とし、労働者の決定に委ねる。","入力シート末尾の勤務制度を選択してください")))))&CHAR(10)&"○詳細は、就業規則 "&IF(LEN('入力'!$C$45)=0," ",'入力'!$C$45)&CHAR(10)&"２ 休憩時間（"&IF(LEN('入力'!$C$46)=0," ",TEXT('入力'!$C$46,IF('入力'!$C$46=INT(N('入力'!$C$46)),"0","0.##")))&"）分"&CHAR(10)&"３ 所定時間外労働（"&IF('入力'!$C$47="有","○有","有")&"、"&IF('入力'!$C$47="無","○無","無")&"）"
A13: 休 日 | B13: 休 日 | C13: ="・定例休日："&IF(LEN('入力'!$C$53)=0,"実際に休日とする日を記入",'入力'!$C$53)&"、その他（"&IF(LEN('入力'!$C$54)=0," ",'入力'!$C$54)&"）"&CHAR(10)&"・非定例休日："&IF(LEN('入力'!$C$55)=0," ",'入力'!$C$55)&CHAR(10)&"・1年単位の変形労働時間制の場合：年間 "&IF(LEN('入力'!$C$56)=0," ",TEXT('入力'!$C$56,IF('入力'!$C$56=INT(N('入力'!$C$56)),"0","0.##")))&"日"&CHAR(10)&"○詳細は、就業規則 "&IF(LEN('入力'!$C$59)=0," ",'入力'!$C$59)
A14: 休 暇 | B14: 休 暇 | C14: ="１ 年次有給休暇 ６か月継続勤務した場合→ "&IF(LEN('入力'!$C$60)=0," ",TEXT('入力'!$C$60,IF('入力'!$C$60=INT(N('入力'!$C$60)),"0","0.##")))&"日"&CHAR(10)&" 継続勤務６か月以内の年次有給休暇 （"&IF('入力'!$C$61="有","○有","有")&"・"&IF('入力'!$C$61="無","○無","無")&"）"&IF('入力'!$C$61="有",CHAR(10)&"→ "&IF(LEN('入力'!$C$62)=0," ",TEXT('入力'!$C$62,IF('入力'!$C$62=INT(N('入力'!$C$62)),"0","0.##")))&"か月経過で "&IF(LEN('入力'!$C$63)=0," ",TEXT('入力'!$C$63,IF('入力'!$C$63=INT(N('入力'!$C$63)),"0","0.##")))&"日","")&CHAR(10)&" 時間単位年休（"&IF('入力'!$C$64="有","○有","有")&"・"&IF('入力'!$C$64="無","○無","無")&"）"&CHAR(10)&"２ 代替休暇（"&IF('入力'!$C$65="有","○有","有")&"・"&IF('入力'!$C$65="無","○無","無")&"）"&CHAR(10)&"３ その他の休暇 有給（"&IF(LEN('入力'!$C$66)=0," ",'入力'!$C$66)&"）"&CHAR(10)&" 無給（"&IF(LEN('入力'!$C$67)=0," ",'入力'!$C$67)&"）"&CHAR(10)&"○詳細は、就業規則 "&IF(LEN('入力'!$C$68)=0,"第 条～第 条、第 条～第 条",'入力'!$C$68)
A15: （次頁に続く） | B15: （次頁に続く） | C15: （次頁に続く） | D15: （次頁に続く） | E15: （次頁に続く） | F15: （次頁に続く） | G15: （次頁に続く） | H15: （次頁に続く） | I15: （次頁に続く） | J15: （次頁に続く） | K15: （次頁に続く） | L15: （次頁に続く）
A18: 賃 金 | B18: 賃 金 | C18: ="１ 基本賃金 "&IF('入力'!$C$115="月給","○イ 月給（"&IF(LEN('入力'!$C$70)=0," ",TEXT('入力'!$C$70,"#,##0"))&"円）",IF('入力'!$C$115="日給","○ロ 日給（"&IF(LEN('入力'!$C$71)=0," ",TEXT('入力'!$C$71,"#,##0"))&"円）",IF('入力'!$C$115="時間給","○ハ 時間給（"&IF(LEN('入力'!$C$72)=0," ",TEXT('入力'!$C$72,"#,##0"))&"円）",IF('入力'!$C$115="出来高給","○ニ 出来高給（基本単価 "&IF(LEN('入力'!$C$73)=0," ",TEXT('入力'!$C$73,"#,##0"))&"円、保障給 "&IF(LEN('入力'!$C$74)=0," ",TEXT('入力'!$C$74,"#,##0"))&"円）",IF('入力'!$C$115="その他","○ホ その他（"&IF(LEN('入力'!$C$75)=0," ",TEXT('入力'!$C$75,"#,##0"))&"円）","入力シート末尾の基本賃金形態を選択してください")))))&CHAR(10)&" ヘ 就業規則に規定されている賃金等級等 "&IF(LEN('入力'!$C$76)=0," ",'入力'!$C$76)&CHAR(10)&""&CHAR(10)&"２ 諸手当の額又は計算方法"&CHAR(10)&" イ（"&IF(LEN('入力'!$C$77)=0," 手当 円 ／計算方法： ",'入力'!$C$77)&"）"&CHAR(10)&" ロ（"&IF(LEN('入力'!$C$78)=0," 手当 円 ／計算方法： ",'入力'!$C$78)&"）"&CHAR(10)&" ハ（"&IF(LEN('入力'!$C$79)=0," 手当 円 ／計算方法： ",'入力'!$C$79)&"）"&CHAR(10)&" ニ（"&IF(LEN('入力'!$C$80)=0," 手当 円 ／計算方法： ",'入力'!$C$80)&"）"&CHAR(10)&"３ 所定時間外、休日又は深夜労働に対して支払われる割増賃金率"&CHAR(10)&" イ 所定時間外、法定超 月６０時間以内（"&IF(LEN('入力'!$C$81)=0," ",TEXT('入力'!$C$81,IF('入力'!$C$81=INT(N('入力'!$C$81)),"0","0.##")))&"）％"&CHAR(10)&" 月６０時間超 （"&IF(LEN('入力'!$C$82)=0," ",TEXT('入力'!$C$82,IF('入力'!$C$82=INT(N('入力'!$C$82)),"0","0.##")))&"）％"&CHAR(10)&" 所定超 （"&IF(LEN('入力'!$C$83)=0," ",TEXT('入力'!$C$83,IF('入力'!$C$83=INT(N('入力'!$C$83)),"0","0.##")))&"）％"&CHAR(10)&" ロ 休日 法定休日（"&IF(LEN('入力'!$C$84)=0," ",TEXT('入力'!$C$84,IF('入力'!$C$84=INT(N('入力'!$C$84)),"0","0.##")))&"）％、法定外休日（"&IF(LEN('入力'!$C$85)=0," ",TEXT('入力'!$C$85,IF('入力'!$C$85=INT(N('入力'!$C$85)),"0","0.##")))&"）％"&CHAR(10)&" ハ 深夜（"&IF(LEN('入力'!$C$86)=0," ",TEXT('入力'!$C$86,IF('入力'!$C$86=INT(N('入力'!$C$86)),"0","0.##")))&"）％"&CHAR(10)&"４ 賃金締切日（"&IF(LEN('入力'!$C$87)=0," ",'入力'!$C$87)&"）"&CHAR(10)&"５ 賃金支払日（"&IF(LEN('入力'!$C$88)=0," ",'入力'!$C$88)&"）"&CHAR(10)&"６ 賃金の支払方法（"&IF(LEN('入力'!$C$89)=0," ",'入力'!$C$89)&"）"
A19: 賃 金 | B19: 賃 金 | C19: ="７ 労使協定に基づく賃金支払時の控除（"&IF(LEN('入力'!$C$90)=0,"無 ， 有（ ）",'入力'!$C$90)&"）"&CHAR(10)&"８ 昇給（"&IF(LEN('入力'!$C$91)=0,"有（時期、金額等 ），無",'入力'!$C$91)&"）"&CHAR(10)&"９ 賞与（"&IF(LEN('入力'!$C$92)=0,"有（時期、金額等 ），無",'入力'!$C$92)&"）"&CHAR(10)&"10 退職金（"&IF(LEN('入力'!$C$93)=0,"有（時期、金額等 ），無",'入力'!$C$93)&"）"
A20: 退職に関す る事項 | B20: 退職に関す る事項 | C20: ="１ 定年制 （"&IF(LEN('入力'!$C$95)=0,"有（ 歳），無",'入力'!$C$95)&"）"&CHAR(10)&"２ 継続雇用制度（"&IF(LEN('入力'!$C$96)=0,"有（ 歳まで），無",'入力'!$C$96)&"）"&CHAR(10)&"３ 創業支援等措置（"&IF(LEN('入力'!$C$97)=0,"有（ 歳まで業務委託・社会貢献事業），無",'入力'!$C$97)&"）"&CHAR(10)&"４ 自己都合退職の手続（退職する "&IF(LEN('入力'!$C$98)=0," ",TEXT('入力'!$C$98,IF('入力'!$C$98=INT(N('入力'!$C$98)),"0","0.##")))&"日以上前に届け出ること）"&CHAR(10)&"５ 解雇の事由及び手続 "&IF(LEN('入力'!$C$99)=0," ",'入力'!$C$99)&CHAR(10)&"○詳細は、就業規則 "&IF(LEN('入力'!$C$100)=0,"第 条～第 条、第 条～第 条",'入力'!$C$100)
A21: そ の 他 | B21: そ の 他 | C21: ="・社会保険の加入状況（"&IF(LEN('入力'!$C$101)=0,"厚生年金 健康保険 その他（ ）",'入力'!$C$101)&"）"&CHAR(10)&"・雇用保険の適用（"&IF('入力'!$C$102="有","○有","有")&"，"&IF('入力'!$C$102="無","○無","無")&"）"&CHAR(10)&"・中小企業退職金共済制度（"&IF(LEN('入力'!$C$103)=0,"加入している，加入していない",'入力'!$C$103)&"）（※中小企業の場合）"&CHAR(10)&"・企業年金制度（"&IF(LEN('入力'!$C$104)=0,"有（制度名 ），無",'入力'!$C$104)&"）"&CHAR(10)&"・次の窓口に対して通常の労働者との間の待遇の相違（内容・理由）等について説明を求めることができる。"&CHAR(10)&" 部署名・担当者職氏名・連絡先 "&IF(LEN('入力'!$C$105)=0," ",'入力'!$C$105)&CHAR(10)&"・雇用管理の改善等に関する事項に係る相談窓口"&CHAR(10)&" 部署名・担当者職氏名・連絡先 "&IF(LEN('入力'!$C$106)=0," ",'入力'!$C$106)&CHAR(10)&"・その他（"&IF(LEN('入力'!$C$107)=0," ",'入力'!$C$107)&"）"
A22: そ の 他 | B22: そ の 他 | C22: ="※以下は、「契約期間」について「期間の定めあり」とした場合についての説明です。"&CHAR(10)&" 労働契約法第18条の規定により、有期労働契約（平成25年4月1日以降に開始するもの）の契約期間が通算5年を超える場合には、労働契約の期間の末日までに労働者から申込みをすることにより、当該労働契約の期間の末日の翌日から期間の定めのない労働契約に転換されます。ただし、有期雇用特別措置法による特例の対象となる場合は、無期転換申込権の発生については、特例的に本通知書の「契約期間」の「有期雇用特別措置法による特例の対象者の場合」欄に明示したとおりとなります。"
A23: ="以上のほかは、当社就業規則による。"&CHAR(10)&"就業規則を確認できる場所や方法（"&IF(LEN('入力'!$C$109)=0," ",'入力'!$C$109)&"）"
A24: ※ 本通知書の交付は、労働基準法第15条に基づく労働条件の明示及び短時間労働者及び有期雇用労働者の雇用管理の改善等に関する法律（パートタイム・有期雇用労働法）第6条に基づく文書の交付を兼ねるものであること。 | B24: ※ 本通知書の交付は、労働基準法第15条に基づく労働条件の明示及び短時間労働者及び有期雇用労働者の雇用管理の改善等に関する法律（パートタイム・有期雇用労働法）第6条に基づく文書の交付を兼ねるものであること。 | C24: ※ 本通知書の交付は、労働基準法第15条に基づく労働条件の明示及び短時間労働者及び有期雇用労働者の雇用管理の改善等に関する法律（パートタイム・有期雇用労働法）第6条に基づく文書の交付を兼ねるものであること。 | D24: ※ 本通知書の交付は、労働基準法第15条に基づく労働条件の明示及び短時間労働者及び有期雇用労働者の雇用管理の改善等に関する法律（パートタイム・有期雇用労働法）第6条に基づく文書の交付を兼ねるものであること。 | E24: ※ 本通知書の交付は、労働基準法第15条に基づく労働条件の明示及び短時間労働者及び有期雇用労働者の雇用管理の改善等に関する法律（パートタイム・有期雇用労働法）第6条に基づく文書の交付を兼ねるものであること。 | F24: ※ 本通知書の交付は、労働基準法第15条に基づく労働条件の明示及び短時間労働者及び有期雇用労働者の雇用管理の改善等に関する法律（パートタイム・有期雇用労働法）第6条に基づく文書の交付を兼ねるものであること。 | G24: ※ 本通知書の交付は、労働基準法第15条に基づく労働条件の明示及び短時間労働者及び有期雇用労働者の雇用管理の改善等に関する法律（パートタイム・有期雇用労働法）第6条に基づく文書の交付を兼ねるものであること。 | H24: ※ 本通知書の交付は、労働基準法第15条に基づく労働条件の明示及び短時間労働者及び有期雇用労働者の雇用管理の改善等に関する法律（パートタイム・有期雇用労働法）第6条に基づく文書の交付を兼ねるものであること。 | I24: ※ 本通知書の交付は、労働基準法第15条に基づく労働条件の明示及び短時間労働者及び有期雇用労働者の雇用管理の改善等に関する法律（パートタイム・有期雇用労働法）第6条に基づく文書の交付を兼ねるものであること。 | J24: ※ 本通知書の交付は、労働基準法第15条に基づく労働条件の明示及び短時間労働者及び有期雇用労働者の雇用管理の改善等に関する法律（パートタイム・有期雇用労働法）第6条に基づく文書の交付を兼ねるものであること。 | K24: ※ 本通知書の交付は、労働基準法第15条に基づく労働条件の明示及び短時間労働者及び有期雇用労働者の雇用管理の改善等に関する法律（パートタイム・有期雇用労働法）第6条に基づく文書の交付を兼ねるものであること。 | L24: ※ 本通知書の交付は、労働基準法第15条に基づく労働条件の明示及び短時間労働者及び有期雇用労働者の雇用管理の改善等に関する法律（パートタイム・有期雇用労働法）第6条に基づく文書の交付を兼ねるものであること。
A25: ※ 労働条件通知書については、労使間の紛争の未然防止のため、保存しておくことをお勧めします。 | B25: ※ 労働条件通知書については、労使間の紛争の未然防止のため、保存しておくことをお勧めします。 | C25: ※ 労働条件通知書については、労使間の紛争の未然防止のため、保存しておくことをお勧めします。 | D25: ※ 労働条件通知書については、労使間の紛争の未然防止のため、保存しておくことをお勧めします。 | E25: ※ 労働条件通知書については、労使間の紛争の未然防止のため、保存しておくことをお勧めします。 | F25: ※ 労働条件通知書については、労使間の紛争の未然防止のため、保存しておくことをお勧めします。 | G25: ※ 労働条件通知書については、労使間の紛争の未然防止のため、保存しておくことをお勧めします。 | H25: ※ 労働条件通知書については、労使間の紛争の未然防止のため、保存しておくことをお勧めします。 | I25: ※ 労働条件通知書については、労使間の紛争の未然防止のため、保存しておくことをお勧めします。 | J25: ※ 労働条件通知書については、労使間の紛争の未然防止のため、保存しておくことをお勧めします。 | K25: ※ 労働条件通知書については、労使間の紛争の未然防止のため、保存しておくことをお勧めします。 | L25: ※ 労働条件通知書については、労使間の紛争の未然防止のため、保存しておくことをお勧めします。

Sheet 短時間労働者用
A1: （短時間労働者用；常用、有期雇用型） | B1: （短時間労働者用；常用、有期雇用型） | C1: （短時間労働者用；常用、有期雇用型） | D1: （短時間労働者用；常用、有期雇用型） | E1: （短時間労働者用；常用、有期雇用型） | F1: （短時間労働者用；常用、有期雇用型） | G1: （短時間労働者用；常用、有期雇用型） | H1: （短時間労働者用；常用、有期雇用型） | I1: （短時間労働者用；常用、有期雇用型） | J1: （短時間労働者用；常用、有期雇用型） | K1: （短時間労働者用；常用、有期雇用型） | L1: （短時間労働者用；常用、有期雇用型）
A2: 労働条件通知書 | B2: 労働条件通知書 | C2: 労働条件通知書 | D2: 労働条件通知書 | E2: 労働条件通知書 | F2: 労働条件通知書 | G2: 労働条件通知書 | H2: 労働条件通知書 | I2: 労働条件通知書 | J2: 労働条件通知書 | K2: 労働条件通知書 | L2: 労働条件通知書
H4: =IF(LEN('入力'!$C$6)=0," 年 月 日",TEXT('入力'!$C$6,"yyyy年m月d日"))
A5: =IF(LEN('入力'!$C$7)=0," ",'入力'!$C$7)&" 殿" | E5: ="事業場名称・所在地 "&IF(LEN('入力'!$C$8)=0," ",'入力'!$C$8)&CHAR(10)&" "&IF(LEN('入力'!$C$9)=0," ",'入力'!$C$9)
E6: ="使 用 者 職 氏 名 "&IF(LEN('入力'!$C$10)=0," ",'入力'!$C$10)&" "&IF(LEN('入力'!$C$11)=0," ",'入力'!$C$11)
A7: 契約期間 | B7: 契約期間 | C7: =IF('入力'!$C$13="期間の定めなし","○期間の定めなし","期間の定めなし")&"、"&IF('入力'!$C$13="期間の定めあり","○期間の定めあり","期間の定めあり")&IF('入力'!$C$13="期間の定めあり","（"&IF(LEN('入力'!$C$14)=0," 年 月 日",TEXT('入力'!$C$14,"yyyy年m月d日"))&"～"&IF(LEN('入力'!$C$15)=0," 年 月 日",TEXT('入力'!$C$15,"yyyy年m月d日"))&"）"&CHAR(10)&"１ 契約更新："&IF('入力'!$C$16="自動的に更新する","○自動的に更新する","自動的に更新する")&"・"&IF('入力'!$C$16="更新する場合があり得る","○更新する場合があり得る","更新する場合があり得る")&"・"&IF('入力'!$C$16="契約の更新はしない","○契約の更新はしない","契約の更新はしない")&"・"&IF('入力'!$C$16="その他","○その他","その他")&IF(LEN('入力'!$C$17)=0,"","（"&'入力'!$C$17&"）")&CHAR(10)&"２ 契約更新の判断基準："&IF(LEN('入力'!$C$18)=0,"適用する判断基準を記入",'入力'!$C$18)&CHAR(10)&"３ 更新上限："&IF('入力'!$C$19="無","○無","無")&"・"&IF('入力'!$C$19="有","○有","有")&IF('入力'!$C$19="有","（更新 "&IF(LEN('入力'!$C$20)=0," ",TEXT('入力'!$C$20,IF('入力'!$C$20=INT(N('入力'!$C$20)),"0","0.##")))&"回まで／通算契約期間 "&IF(LEN('入力'!$C$21)=0," ",TEXT('入力'!$C$21,IF('入力'!$C$21=INT(N('入力'!$C$21)),"0","0.##")))&"年まで）",""),"")
A8: ="【労働契約法に定める同一の企業との間での通算契約期間が５年を超える有期労働契約の締結の場合】"&CHAR(10)&" 本契約期間中に会社に対して期間の定めのない労働契約（無期労働契約）の締結の申込みをすることにより、本契約期間の末日の翌日（"&IF(LEN('入力'!$C$22)=0," 年 月 日",TEXT('入力'!$C$22,"yyyy年m月d日"))&"）から、無期労働契約での雇用に転換することができる。この場合の本契約からの労働条件の変更の有無（"&IF('入力'!$C$23="無","○無","無")&"・"&IF('入力'!$C$23="有（別紙のとおり）","○有（別紙のとおり）","有（別紙のとおり）")&"）"
A9: ="【有期雇用特別措置法による特例の対象者の場合】"&CHAR(10)&"無期転換申込権が発生しない期間／対象："&IF(LEN('入力'!$C$24)=0," ",'入力'!$C$24)&IF('入力'!$C$24="高度専門",CHAR(10)&"Ⅰ 特定有期業務の開始から完了まで（"&IF(LEN('入力'!$C$25)=0," ",TEXT('入力'!$C$25,IF('入力'!$C$25=INT(N('入力'!$C$25)),"0","0.##")))&"か月、上限10年）",IF('入力'!$C$24="定年後の高齢者",CHAR(10)&"Ⅱ 定年後引き続いて雇用されている期間",""))
A10: 就業の場所 | B10: 就業の場所 | C10: ="（雇入れ直後）"&IF(LEN('入力'!$C$27)=0," ",'入力'!$C$27)&CHAR(10)&"（変更の範囲）"&IF(LEN('入力'!$C$28)=0," ",'入力'!$C$28)
A11: 従事すべき 業務の内容 | B11: 従事すべき 業務の内容 | C11: ="（雇入れ直後）"&IF(LEN('入力'!$C$29)=0," ",'入力'!$C$29)&CHAR(10)&"（変更の範囲）"&IF(LEN('入力'!$C$30)=0," ",'入力'!$C$30)&CHAR(10)&"【有期雇用特別措置法による特例の対象者（高度専門）の場合】"&CHAR(10)&"・特定有期業務（"&IF(LEN('入力'!$C$31)=0," ",'入力'!$C$31)&" 開始日："&IF(LEN('入力'!$C$32)=0," ",TEXT('入力'!$C$32,"yyyy年m月d日"))&" 完了日："&IF(LEN('入力'!$C$33)=0," ",TEXT('入力'!$C$33,"yyyy年m月d日"))&"）"
A12: 始業・終業の時刻 休憩時間 勤務制度 所定時間外労働 休日労働 | B12: 始業、終業の 時刻、休憩時 間、就業時転 換（(1)～(5) のうち該当す るもの一つに ○を付けるこ と。）、所定時 間外労働の有 無に関する事 項 | C12: ="１ 始業・終業の時刻等"&CHAR(10)&IF('入力'!$C$114="通常勤務","○(1) 始業（"&IF(LEN('入力'!$C$35)=0," 時 分",'入力'!$C$35)&"） 終業（"&IF(LEN('入力'!$C$36)=0," 時 分",'入力'!$C$36)&"）",IF('入力'!$C$114="変形労働時間制等","○(2) "&IF(LEN('入力'!$C$37)=0,"適用する制度の名称を記入",'入力'!$C$37)&CHAR(10)&IF(LEN('入力'!$C$38)=0,"始業・終業・適用日を記入",'入力'!$C$38)&CHAR(10)&IF(LEN('入力'!$C$39)=0,"",'入力'!$C$39)&CHAR(10)&IF(LEN('入力'!$C$40)=0,"",'入力'!$C$40),IF('入力'!$C$114="フレックスタイム制","○(3) フレックスタイム制：始業・終業は労働者の決定に委ねる。"&CHAR(10)&"フレキシブルタイム："&IF(LEN('入力'!$C$41)=0," ",'入力'!$C$41)&CHAR(10)&"コアタイム："&IF(LEN('入力'!$C$42)=0," ",'入力'!$C$42),IF('入力'!$C$114="事業場外みなし労働時間制","○(4) 事業場外みなし労働時間制："&IF(LEN('入力'!$C$43)=0,"始業・終業を記入",'入力'!$C$43),IF('入力'!$C$114="裁量労働制","○(5) 裁量労働制："&IF(LEN('入力'!$C$44)=0,"始業・終業を記入",'入力'!$C$44)&"を基本とし、労働者の決定に委ねる。","入力シート末尾の勤務制度を選択してください")))))&CHAR(10)&"○詳細は、就業規則 "&IF(LEN('入力'!$C$45)=0," ",'入力'!$C$45)&CHAR(10)&"２ 休憩時間（"&IF(LEN('入力'!$C$46)=0," ",TEXT('入力'!$C$46,IF('入力'!$C$46=INT(N('入力'!$C$46)),"0","0.##")))&"）分"&CHAR(10)&"３ 所定時間外労働（"&IF('入力'!$C$47="有","○有","有")&IF('入力'!$C$47="有","（1週 "&IF(LEN('入力'!$C$49)=0," ",TEXT('入力'!$C$49,IF('入力'!$C$49=INT(N('入力'!$C$49)),"0","0.##")))&"時間、1か月 "&IF(LEN('入力'!$C$50)=0," ",TEXT('入力'!$C$50,IF('入力'!$C$50=INT(N('入力'!$C$50)),"0","0.##")))&"時間、1年 "&IF(LEN('入力'!$C$51)=0," ",TEXT('入力'!$C$51,IF('入力'!$C$51=INT(N('入力'!$C$51)),"0","0.##")))&"時間）","")&"、"&IF('入力'!$C$47="無","○無","無")&"）"&CHAR(10)&"４ 休日労働（"&IF('入力'!$C$48="有","○有","有")&IF('入力'!$C$48="有","（1か月 "&IF(LEN('入力'!$C$116)=0," ",TEXT('入力'!$C$116,IF('入力'!$C$116=INT(N('入力'!$C$116)),"0","0.##")))&"日、1年 "&IF(LEN('入力'!$C$117)=0," ",TEXT('入力'!$C$117,IF('入力'!$C$117=INT(N('入力'!$C$117)),"0","0.##")))&"日）","")&"、"&IF('入力'!$C$48="無","○無","無")&"）"
A13: 休 日 及び 勤 務 日 | B13: 休 日 及び 勤 務 日 | C13: ="・定例休日："&IF(LEN('入力'!$C$53)=0,"実際に休日とする日を記入",'入力'!$C$53)&"、その他（"&IF(LEN('入力'!$C$54)=0," ",'入力'!$C$54)&"）"&CHAR(10)&"・非定例休日："&IF(LEN('入力'!$C$55)=0," ",'入力'!$C$55)&CHAR(10)&"・1年単位の変形労働時間制の場合：年間 "&IF(LEN('入力'!$C$56)=0," ",TEXT('入力'!$C$56,IF('入力'!$C$56=INT(N('入力'!$C$56)),"0","0.##")))&"日"&CHAR(10)&"（勤務日）毎週（"&IF(LEN('入力'!$C$57)=0," ",'入力'!$C$57)&"）、その他（"&IF(LEN('入力'!$C$58)=0," ",'入力'!$C$58)&"）"&CHAR(10)&"○詳細は、就業規則 "&IF(LEN('入力'!$C$59)=0," ",'入力'!$C$59)
A14: 休 暇 | B14: 休 暇 | C14: ="１ 年次有給休暇 ６か月継続勤務した場合→ "&IF(LEN('入力'!$C$60)=0," ",TEXT('入力'!$C$60,IF('入力'!$C$60=INT(N('入力'!$C$60)),"0","0.##")))&"日"&CHAR(10)&" 継続勤務６か月以内の年次有給休暇 （"&IF('入力'!$C$61="有","○有","有")&"・"&IF('入力'!$C$61="無","○無","無")&"）"&IF('入力'!$C$61="有",CHAR(10)&"→ "&IF(LEN('入力'!$C$62)=0," ",TEXT('入力'!$C$62,IF('入力'!$C$62=INT(N('入力'!$C$62)),"0","0.##")))&"か月経過で "&IF(LEN('入力'!$C$63)=0," ",TEXT('入力'!$C$63,IF('入力'!$C$63=INT(N('入力'!$C$63)),"0","0.##")))&"日","")&CHAR(10)&" 時間単位年休（"&IF('入力'!$C$64="有","○有","有")&"・"&IF('入力'!$C$64="無","○無","無")&"）"&CHAR(10)&"２ 代替休暇（"&IF('入力'!$C$65="有","○有","有")&"・"&IF('入力'!$C$65="無","○無","無")&"）"&CHAR(10)&"３ その他の休暇 有給（"&IF(LEN('入力'!$C$66)=0," ",'入力'!$C$66)&"）"&CHAR(10)&" 無給（"&IF(LEN('入力'!$C$67)=0," ",'入力'!$C$67)&"）"&CHAR(10)&"○詳細は、就業規則 "&IF(LEN('入力'!$C$68)=0,"第 条～第 条、第 条～第 条",'入力'!$C$68)
A15: （次頁に続く） | B15: （次頁に続く） | C15: （次頁に続く） | D15: （次頁に続く） | E15: （次頁に続く） | F15: （次頁に続く） | G15: （次頁に続く） | H15: （次頁に続く） | I15: （次頁に続く） | J15: （次頁に続く） | K15: （次頁に続く） | L15: （次頁に続く）
A18: 賃 金 | B18: 賃 金 | C18: ="１ 基本賃金 "&IF('入力'!$C$115="月給","○イ 月給（"&IF(LEN('入力'!$C$70)=0," ",TEXT('入力'!$C$70,"#,##0"))&"円）",IF('入力'!$C$115="日給","○ロ 日給（"&IF(LEN('入力'!$C$71)=0," ",TEXT('入力'!$C$71,"#,##0"))&"円）",IF('入力'!$C$115="時間給","○ハ 時間給（"&IF(LEN('入力'!$C$72)=0," ",TEXT('入力'!$C$72,"#,##0"))&"円）",IF('入力'!$C$115="出来高給","○ニ 出来高給（基本単価 "&IF(LEN('入力'!$C$73)=0," ",TEXT('入力'!$C$73,"#,##0"))&"円、保障給 "&IF(LEN('入力'!$C$74)=0," ",TEXT('入力'!$C$74,"#,##0"))&"円）",IF('入力'!$C$115="その他","○ホ その他（"&IF(LEN('入力'!$C$75)=0," ",TEXT('入力'!$C$75,"#,##0"))&"円）","入力シート末尾の基本賃金形態を選択してください")))))&CHAR(10)&" ヘ 就業規則に規定されている賃金等級等 "&IF(LEN('入力'!$C$76)=0," ",'入力'!$C$76)&CHAR(10)&""&CHAR(10)&"２ 諸手当の額又は計算方法"&CHAR(10)&" イ（"&IF(LEN('入力'!$C$77)=0," 手当 円 ／計算方法： ",'入力'!$C$77)&"）"&CHAR(10)&" ロ（"&IF(LEN('入力'!$C$78)=0," 手当 円 ／計算方法： ",'入力'!$C$78)&"）"&CHAR(10)&" ハ（"&IF(LEN('入力'!$C$79)=0," 手当 円 ／計算方法： ",'入力'!$C$79)&"）"&CHAR(10)&" ニ（"&IF(LEN('入力'!$C$80)=0," 手当 円 ／計算方法： ",'入力'!$C$80)&"）"&CHAR(10)&"３ 所定時間外、休日又は深夜労働に対して支払われる割増賃金率"&CHAR(10)&" イ 所定時間外、法定超 月６０時間以内（"&IF(LEN('入力'!$C$81)=0," ",TEXT('入力'!$C$81,IF('入力'!$C$81=INT(N('入力'!$C$81)),"0","0.##")))&"）％"&CHAR(10)&" 月６０時間超 （"&IF(LEN('入力'!$C$82)=0," ",TEXT('入力'!$C$82,IF('入力'!$C$82=INT(N('入力'!$C$82)),"0","0.##")))&"）％"&CHAR(10)&" 所定超 （"&IF(LEN('入力'!$C$83)=0," ",TEXT('入力'!$C$83,IF('入力'!$C$83=INT(N('入力'!$C$83)),"0","0.##")))&"）％"&CHAR(10)&" ロ 休日 法定休日（"&IF(LEN('入力'!$C$84)=0," ",TEXT('入力'!$C$84,IF('入力'!$C$84=INT(N('入力'!$C$84)),"0","0.##")))&"）％、法定外休日（"&IF(LEN('入力'!$C$85)=0," ",TEXT('入力'!$C$85,IF('入力'!$C$85=INT(N('入力'!$C$85)),"0","0.##")))&"）％"&CHAR(10)&" ハ 深夜（"&IF(LEN('入力'!$C$86)=0," ",TEXT('入力'!$C$86,IF('入力'!$C$86=INT(N('入力'!$C$86)),"0","0.##")))&"）％"&CHAR(10)&"４ 賃金締切日（"&IF(LEN('入力'!$C$87)=0," ",'入力'!$C$87)&"）"&CHAR(10)&"５ 賃金支払日（"&IF(LEN('入力'!$C$88)=0," ",'入力'!$C$88)&"）"&CHAR(10)&"６ 賃金の支払方法（"&IF(LEN('入力'!$C$89)=0," ",'入力'!$C$89)&"）"
A19: 賃 金 | B19: 賃 金 | C19: ="７ 労使協定に基づく賃金支払時の控除（"&IF(LEN('入力'!$C$90)=0,"無 ， 有（ ）",'入力'!$C$90)&"）"&CHAR(10)&"８ 昇給（"&IF(LEN('入力'!$C$91)=0,"有（時期、金額等 ），無",'入力'!$C$91)&"）"&CHAR(10)&"９ 賞与（"&IF(LEN('入力'!$C$92)=0,"有（時期、金額等 ），無",'入力'!$C$92)&"）"&CHAR(10)&"10 退職金（"&IF(LEN('入力'!$C$93)=0,"有（時期、金額等 ），無",'入力'!$C$93)&"）"
A20: 退職に関す る事項 | B20: 退職に関す る事項 | C20: ="１ 定年制 （"&IF(LEN('入力'!$C$95)=0,"有（ 歳），無",'入力'!$C$95)&"）"&CHAR(10)&"２ 継続雇用制度（"&IF(LEN('入力'!$C$96)=0,"有（ 歳まで），無",'入力'!$C$96)&"）"&CHAR(10)&"３ 創業支援等措置（"&IF(LEN('入力'!$C$97)=0,"有（ 歳まで業務委託・社会貢献事業），無",'入力'!$C$97)&"）"&CHAR(10)&"４ 自己都合退職の手続（退職する "&IF(LEN('入力'!$C$98)=0," ",TEXT('入力'!$C$98,IF('入力'!$C$98=INT(N('入力'!$C$98)),"0","0.##")))&"日以上前に届け出ること）"&CHAR(10)&"５ 解雇の事由及び手続 "&IF(LEN('入力'!$C$99)=0," ",'入力'!$C$99)&CHAR(10)&"○詳細は、就業規則 "&IF(LEN('入力'!$C$100)=0,"第 条～第 条、第 条～第 条",'入力'!$C$100)
A21: そ の 他 | B21: そ の 他 | C21: ="・社会保険の加入状況（"&IF(LEN('入力'!$C$101)=0,"厚生年金 健康保険 その他（ ）",'入力'!$C$101)&"）"&CHAR(10)&"・雇用保険の適用（"&IF('入力'!$C$102="有","○有","有")&"，"&IF('入力'!$C$102="無","○無","無")&"）"&CHAR(10)&"・中小企業退職金共済制度（"&IF(LEN('入力'!$C$103)=0,"加入している，加入していない",'入力'!$C$103)&"）（※中小企業の場合）"&CHAR(10)&"・企業年金制度（"&IF(LEN('入力'!$C$104)=0,"有（制度名 ），無",'入力'!$C$104)&"）"&CHAR(10)&"・次の窓口に対して通常の労働者との間の待遇の相違（内容・理由）等について説明を求めることができる。"&CHAR(10)&" 部署名・担当者職氏名・連絡先 "&IF(LEN('入力'!$C$105)=0," ",'入力'!$C$105)&CHAR(10)&"・雇用管理の改善等に関する事項に係る相談窓口"&CHAR(10)&" 部署名・担当者職氏名・連絡先 "&IF(LEN('入力'!$C$106)=0," ",'入力'!$C$106)&CHAR(10)&"・その他（"&IF(LEN('入力'!$C$107)=0," ",'入力'!$C$107)&"）"&CHAR(10)&"・具体的に適用される就業規則名（"&IF(LEN('入力'!$C$108)=0," ",'入力'!$C$108)&"）"
A22: そ の 他 | B22: そ の 他 | C22: ="※以下は、「契約期間」について「期間の定めあり」とした場合についての説明です。"&CHAR(10)&" 労働契約法第18条の規定により、有期労働契約（平成25年4月1日以降に開始するもの）の契約期間が通算5年を超える場合には、労働契約の期間の末日までに労働者から申込みをすることにより、当該労働契約の期間の末日の翌日から期間の定めのない労働契約に転換されます。ただし、有期雇用特別措置法による特例の対象となる場合は、無期転換申込権の発生については、特例的に本通知書の「契約期間」の「有期雇用特別措置法による特例の対象者の場合」欄に明示したとおりとなります。"
A23: ="以上のほかは、当社就業規則による。"&CHAR(10)&"就業規則を確認できる場所や方法（"&IF(LEN('入力'!$C$109)=0," ",'入力'!$C$109)&"）"
A24: ※ 本通知書の交付は、労働基準法第15条に基づく労働条件の明示及び短時間労働者及び有期雇用労働者の雇用管理の改善等に関する法律（パートタイム・有期雇用労働法）第6条に基づく文書の交付を兼ねるものであること。 | B24: ※ 本通知書の交付は、労働基準法第15条に基づく労働条件の明示及び短時間労働者及び有期雇用労働者の雇用管理の改善等に関する法律（パートタイム・有期雇用労働法）第6条に基づく文書の交付を兼ねるものであること。 | C24: ※ 本通知書の交付は、労働基準法第15条に基づく労働条件の明示及び短時間労働者及び有期雇用労働者の雇用管理の改善等に関する法律（パートタイム・有期雇用労働法）第6条に基づく文書の交付を兼ねるものであること。 | D24: ※ 本通知書の交付は、労働基準法第15条に基づく労働条件の明示及び短時間労働者及び有期雇用労働者の雇用管理の改善等に関する法律（パートタイム・有期雇用労働法）第6条に基づく文書の交付を兼ねるものであること。 | E24: ※ 本通知書の交付は、労働基準法第15条に基づく労働条件の明示及び短時間労働者及び有期雇用労働者の雇用管理の改善等に関する法律（パートタイム・有期雇用労働法）第6条に基づく文書の交付を兼ねるものであること。 | F24: ※ 本通知書の交付は、労働基準法第15条に基づく労働条件の明示及び短時間労働者及び有期雇用労働者の雇用管理の改善等に関する法律（パートタイム・有期雇用労働法）第6条に基づく文書の交付を兼ねるものであること。 | G24: ※ 本通知書の交付は、労働基準法第15条に基づく労働条件の明示及び短時間労働者及び有期雇用労働者の雇用管理の改善等に関する法律（パートタイム・有期雇用労働法）第6条に基づく文書の交付を兼ねるものであること。 | H24: ※ 本通知書の交付は、労働基準法第15条に基づく労働条件の明示及び短時間労働者及び有期雇用労働者の雇用管理の改善等に関する法律（パートタイム・有期雇用労働法）第6条に基づく文書の交付を兼ねるものであること。 | I24: ※ 本通知書の交付は、労働基準法第15条に基づく労働条件の明示及び短時間労働者及び有期雇用労働者の雇用管理の改善等に関する法律（パートタイム・有期雇用労働法）第6条に基づく文書の交付を兼ねるものであること。 | J24: ※ 本通知書の交付は、労働基準法第15条に基づく労働条件の明示及び短時間労働者及び有期雇用労働者の雇用管理の改善等に関する法律（パートタイム・有期雇用労働法）第6条に基づく文書の交付を兼ねるものであること。 | K24: ※ 本通知書の交付は、労働基準法第15条に基づく労働条件の明示及び短時間労働者及び有期雇用労働者の雇用管理の改善等に関する法律（パートタイム・有期雇用労働法）第6条に基づく文書の交付を兼ねるものであること。 | L24: ※ 本通知書の交付は、労働基準法第15条に基づく労働条件の明示及び短時間労働者及び有期雇用労働者の雇用管理の改善等に関する法律（パートタイム・有期雇用労働法）第6条に基づく文書の交付を兼ねるものであること。
A25: ※ 労働条件通知書については、労使間の紛争の未然防止のため、保存しておくことをお勧めします。 | B25: ※ 労働条件通知書については、労使間の紛争の未然防止のため、保存しておくことをお勧めします。 | C25: ※ 労働条件通知書については、労使間の紛争の未然防止のため、保存しておくことをお勧めします。 | D25: ※ 労働条件通知書については、労使間の紛争の未然防止のため、保存しておくことをお勧めします。 | E25: ※ 労働条件通知書については、労使間の紛争の未然防止のため、保存しておくことをお勧めします。 | F25: ※ 労働条件通知書については、労使間の紛争の未然防止のため、保存しておくことをお勧めします。 | G25: ※ 労働条件通知書については、労使間の紛争の未然防止のため、保存しておくことをお勧めします。 | H25: ※ 労働条件通知書については、労使間の紛争の未然防止のため、保存しておくことをお勧めします。 | I25: ※ 労働条件通知書については、労使間の紛争の未然防止のため、保存しておくことをお勧めします。 | J25: ※ 労働条件通知書については、労使間の紛争の未然防止のため、保存しておくことをお勧めします。 | K25: ※ 労働条件通知書については、労使間の紛争の未然防止のため、保存しておくことをお勧めします。 | L25: ※ 労働条件通知書については、労使間の紛争の未然防止のため、保存しておくことをお勧めします。
